BEGIN:VCALENDAR
VERSION:2.0
PRODID:-//aldridgegardens.com//NONSGML kigkonsult.se iCalcreator 2.30.10//
CALSCALE:GREGORIAN
METHOD:PUBLISH
UID:77c7b928-6d28-439d-a7cc-ed143410199c
X-WR-CALDESC:Summer Camps at Aldridge Gardens! Choose from American Girl Do
 lls\, Art in the Gardens\, or S.T.E.A.M. (Science\, Technology\, Engineeri
 ng\, Art\, and Math). We have something for everyone. \n\n<b><a href='http
 s://aldridgegardens.com/education/summer-camps/'>Click here to learn more 
 about each camp\, see the schedule\, and register. </a></b>
X-WR-RELCALID:2a641b5e9de69684510b448994897217
X-WR-TIMEZONE:America/Chicago
BEGIN:VTIMEZONE
TZID:America/Chicago
BEGIN:STANDARD
TZNAME:CST
DTSTART:20241103T020000
TZOFFSETFROM:-0500
TZOFFSETTO:-0600
RDATE:20251102T020000
RDATE:20261101T020000
END:STANDARD
BEGIN:DAYLIGHT
TZNAME:CDT
DTSTART:20250309T020000
TZOFFSETFROM:-0600
TZOFFSETTO:-0500
RDATE:20260308T020000
END:DAYLIGHT
END:VTIMEZONE
BEGIN:VEVENT
UID:036d2af8-b2bf-4f70-ac2e-7ecc9d1b09fa
DTSTAMP:20260422T023253Z
DESCRIPTION:Summer Camps at Aldridge Gardens! Choose from American Girl Dol
 ls\, Art in the Gardens\, or S.T.E.A.M. (Science\, Technology\, Engineerin
 g\, Art\, and Math). We have something for everyone. \n\n<b><a href='https
 ://aldridgegardens.com/education/summer-camps/'>Click here to learn more a
 bout each camp\, see the schedule\, and register. </a></b>
DTSTART;TZID=America/Chicago:20250609T090000
DTEND;TZID=America/Chicago:20250609T120000
LOCATION:3530 Lorna Rd\, Hoover\, AL 35216 US
SUMMARY:Week 2 of Summer Camps at Aldridge Gardens
END:VEVENT
END:VCALENDAR
